BEGIN:VCALENDAR
PRODID:-//eluceo/ical//2.0/EN
VERSION:2.0
CALSCALE:GREGORIAN
BEGIN:VEVENT
UID:007cd3d59b05ba1167fa44934cb90b67
DTSTAMP:20260421T140532Z
SUMMARY:Grant Management Seminar 2014
DESCRIPTION:Relatore/i: Rotary Foundation-Komitee D2000
URL:https://foundation.rotary2000.ch/it/agenda/show/39019
DTSTART;TZID=Europe/Zurich:20140322T090000
DTEND;TZID=Europe/Zurich:20140322T130000
LOCATION:8304 Wallisellen\, Doktorhaus
CATEGORIES:Rotary
END:VEVENT
BEGIN:VTIMEZONE
TZID:Europe/Zurich
BEGIN:STANDARD
DTSTART:20140322T090000
TZNAME:CET
TZOFFSETTO:+0100
TZOFFSETFROM:+0100
END:STANDARD
END:VTIMEZONE
END:VCALENDAR
