BEGIN:VCALENDAR
PRODID:-//eluceo/ical//2.0/EN
VERSION:2.0
CALSCALE:GREGORIAN
BEGIN:VEVENT
UID:169ad67315354449c4d7b298905ca845
DTSTAMP:20260421T141445Z
SUMMARY:TEST
DESCRIPTION:
URL:https://foundation.rotary2000.ch/it/agenda/show/71854
DTSTART;TZID=Europe/Zurich:20170211T000000
DTEND;TZID=Europe/Zurich:20170211T000000
LOCATION:Uznach
CATEGORIES:Rotary
END:VEVENT
BEGIN:VTIMEZONE
TZID:Europe/Zurich
BEGIN:STANDARD
DTSTART:20170211T000000
TZNAME:CET
TZOFFSETTO:+0100
TZOFFSETFROM:+0100
END:STANDARD
END:VTIMEZONE
END:VCALENDAR
